BEGIN:VCALENDAR
VERSION:2.0
PRODID:-//UFCW Local 135 - ECPv6.15.20//NONSGML v1.0//EN
CALSCALE:GREGORIAN
METHOD:PUBLISH
X-WR-CALNAME:UFCW Local 135
X-ORIGINAL-URL:https://ufcw135.com
X-WR-CALDESC:Events for UFCW Local 135
REFRESH-INTERVAL;VALUE=DURATION:PT1H
X-Robots-Tag:noindex
X-PUBLISHED-TTL:PT1H
BEGIN:VTIMEZONE
TZID:America/Los_Angeles
BEGIN:DAYLIGHT
TZOFFSETFROM:-0800
TZOFFSETTO:-0700
TZNAME:PDT
DTSTART:20230312T100000
END:DAYLIGHT
BEGIN:STANDARD
TZOFFSETFROM:-0700
TZOFFSETTO:-0800
TZNAME:PST
DTSTART:20231105T090000
END:STANDARD
BEGIN:DAYLIGHT
TZOFFSETFROM:-0800
TZOFFSETTO:-0700
TZNAME:PDT
DTSTART:20240310T100000
END:DAYLIGHT
BEGIN:STANDARD
TZOFFSETFROM:-0700
TZOFFSETTO:-0800
TZNAME:PST
DTSTART:20241103T090000
END:STANDARD
BEGIN:DAYLIGHT
TZOFFSETFROM:-0800
TZOFFSETTO:-0700
TZNAME:PDT
DTSTART:20250309T100000
END:DAYLIGHT
BEGIN:STANDARD
TZOFFSETFROM:-0700
TZOFFSETTO:-0800
TZNAME:PST
DTSTART:20251102T090000
END:STANDARD
END:VTIMEZONE
BEGIN:VEVENT
DTSTART;TZID=America/Los_Angeles:20241211T090000
DTEND;TZID=America/Los_Angeles:20241211T153000
DTSTAMP:20260425T105457
CREATED:20240920T234413Z
LAST-MODIFIED:20240920T234413Z
UID:15815-1733907600-1733931000@ufcw135.com
SUMMARY:Steward Symposium
DESCRIPTION:Join us for a special one-day mini-conference exclusively for our shop stewards! This year’s Steward Symposium will focus on preparing for 2025 bargaining at Albertsons/Vons/Pavilions\, Ralphs\, Stater Bros\, Gelson’s\, Spreckels Sugar\, Stiiizy\, and Kaiser Permanente\, with a deep dive into your legal rights as a workers. \n📅 Date: Wednesday\, December 11\, 2024\n🕘 Time: 9:00 am – 3:30 pm\n📍 Location: Marina Village Conference Center\, 936 Quivira Way\, San Diego\, CA 92109 \nEvent Highlights: \n\nPresentations and breakout sessions\nKeynote speakers\nComplimentary breakfast and lunch\nStewards recognition ceremony\nSteward-only swag\n\nEligibility: All UFCW Local 135 Stewards are invited! Be sure to inform your manager and request the day off in advance. \nRegistration: Complete the form to secure your spot. Registration closes on November 11. Register HERE. \nWe hope to see you there!
URL:https://ufcw135.com/event/steward-symposium/
LOCATION:Marina Village\, 936 Quivira Way\, San Diego\, CA\, 92109
CATEGORIES:Meeting
END:VEVENT
BEGIN:VEVENT
DTSTART;TZID=America/Los_Angeles:20241219T080000
DTEND;TZID=America/Los_Angeles:20241221T170000
DTSTAMP:20260425T105457
CREATED:20241217T211956Z
LAST-MODIFIED:20241217T211956Z
UID:16032-1734595200-1734800400@ufcw135.com
SUMMARY:Spreckels Sugar Contract Vote
DESCRIPTION:Conducted electronically through Election Buddy.
URL:https://ufcw135.com/event/spreckels-sugar-contract-vote/
CATEGORIES:Vote
END:VEVENT
BEGIN:VEVENT
DTSTART;VALUE=DATE:20241224
DTEND;VALUE=DATE:20241226
DTSTAMP:20260425T105457
CREATED:20240202T184451Z
LAST-MODIFIED:20240202T184451Z
UID:15207-1734998400-1735171199@ufcw135.com
SUMMARY:CLOSED Christmas Eve & Christmas
DESCRIPTION:UFCW Local 135’s offices will be closed on Tuesday and Wednesday\, December 24 and 25 in observance of Christmas Eve and Christmas.
URL:https://ufcw135.com/event/closed-christmas-eve-christmas/
CATEGORIES:Holiday
END:VEVENT
END:VCALENDAR