BEGIN:VCALENDAR
VERSION:2.0
PRODID:-//UFCW Local 135 - ECPv6.15.20//NONSGML v1.0//EN
CALSCALE:GREGORIAN
METHOD:PUBLISH
X-ORIGINAL-URL:https://ufcw135.com
X-WR-CALDESC:Events for UFCW Local 135
REFRESH-INTERVAL;VALUE=DURATION:PT1H
X-Robots-Tag:noindex
X-PUBLISHED-TTL:PT1H
BEGIN:VTIMEZONE
TZID:America/Los_Angeles
BEGIN:DAYLIGHT
TZOFFSETFROM:-0800
TZOFFSETTO:-0700
TZNAME:PDT
DTSTART:20230312T100000
END:DAYLIGHT
BEGIN:STANDARD
TZOFFSETFROM:-0700
TZOFFSETTO:-0800
TZNAME:PST
DTSTART:20231105T090000
END:STANDARD
BEGIN:DAYLIGHT
TZOFFSETFROM:-0800
TZOFFSETTO:-0700
TZNAME:PDT
DTSTART:20240310T100000
END:DAYLIGHT
BEGIN:STANDARD
TZOFFSETFROM:-0700
TZOFFSETTO:-0800
TZNAME:PST
DTSTART:20241103T090000
END:STANDARD
BEGIN:DAYLIGHT
TZOFFSETFROM:-0800
TZOFFSETTO:-0700
TZNAME:PDT
DTSTART:20250309T100000
END:DAYLIGHT
BEGIN:STANDARD
TZOFFSETFROM:-0700
TZOFFSETTO:-0800
TZNAME:PST
DTSTART:20251102T090000
END:STANDARD
END:VTIMEZONE
BEGIN:VEVENT
DTSTART;VALUE=DATE:20241106
DTEND;VALUE=DATE:20241108
DTSTAMP:20260425T121809
CREATED:20241022T165819Z
LAST-MODIFIED:20241022T165819Z
UID:15900-1730851200-1731023999@ufcw135.com
SUMMARY:Rite Aid Bargaining
DESCRIPTION:
URL:https://ufcw135.com/event/rite-aid-bargaining-2/
CATEGORIES:Negotiations
END:VEVENT
BEGIN:VEVENT
DTSTART;TZID=America/Los_Angeles:20241106T080000
DTEND;TZID=America/Los_Angeles:20241108T170000
DTSTAMP:20260425T121809
CREATED:20241029T183144Z
LAST-MODIFIED:20241029T183144Z
UID:15921-1730880000-1731085200@ufcw135.com
SUMMARY:CVS Contract Ratification Vote
DESCRIPTION:The CVS Contract Ratification Vote will be conducted electronically from Wednesday\, November 6\, at 8AM through Friday\, November 8\, at 5PM.\n\nUnion Reps will be visiting CVS locations in the days leading up to the vote to review contract details and answer questions.\n\n\n\nStay informed\, stay involved—your vote matters!
URL:https://ufcw135.com/event/cvs-contract-ratification-vote/
CATEGORIES:Vote
END:VEVENT
BEGIN:VEVENT
DTSTART;TZID=America/Los_Angeles:20241106T090000
DTEND;TZID=America/Los_Angeles:20241106T100000
DTSTAMP:20260425T121809
CREATED:20240202T185747Z
LAST-MODIFIED:20240202T185747Z
UID:15225-1730883600-1730887200@ufcw135.com
SUMMARY:New Member Orientation
DESCRIPTION:New Member Orientations takes place online on Zoom on Wednesday\, November 6 at 9am and 6pm.
URL:https://ufcw135.com/event/new-member-orientation-7/
CATEGORIES:Meeting
END:VEVENT
BEGIN:VEVENT
DTSTART;TZID=America/Los_Angeles:20241106T180000
DTEND;TZID=America/Los_Angeles:20241106T190000
DTSTAMP:20260425T121809
CREATED:20240202T185839Z
LAST-MODIFIED:20240202T185839Z
UID:15227-1730916000-1730919600@ufcw135.com
SUMMARY:New Member Orientation
DESCRIPTION:New Member Orientations takes place online on Zoom on Wednesday\, November 6 at 9am and 6pm.
URL:https://ufcw135.com/event/new-member-orientation-8/
CATEGORIES:Meeting
END:VEVENT
BEGIN:VEVENT
DTSTART;VALUE=DATE:20241111
DTEND;VALUE=DATE:20241112
DTSTAMP:20260425T121809
CREATED:20240202T183740Z
LAST-MODIFIED:20240202T183740Z
UID:15203-1731283200-1731369599@ufcw135.com
SUMMARY:CLOSED Veterans Day
DESCRIPTION:UFCW Local 135’s offices will be closed on Monday\, November 11 in observance of Veterans Day.
URL:https://ufcw135.com/event/closed-veterans-day/
CATEGORIES:Holiday
END:VEVENT
BEGIN:VEVENT
DTSTART;VALUE=DATE:20241115
DTEND;VALUE=DATE:20241116
DTSTAMP:20260425T121809
CREATED:20241109T000748Z
LAST-MODIFIED:20241109T000748Z
UID:15986-1731628800-1731715199@ufcw135.com
SUMMARY:Rite Aid Bargaining
DESCRIPTION:
URL:https://ufcw135.com/event/rite-aid-bargaining-3/
CATEGORIES:Negotiations
END:VEVENT
BEGIN:VEVENT
DTSTART;TZID=America/Los_Angeles:20241119T090000
DTEND;TZID=America/Los_Angeles:20241119T100000
DTSTAMP:20260425T121809
CREATED:20241106T193333Z
LAST-MODIFIED:20241106T193333Z
UID:15973-1732006800-1732010400@ufcw135.com
SUMMARY:Open Enrollment Webinar
DESCRIPTION:  \n\n Attention UFCW Food Division members! Join us for our Open Enrollment Seminar on November 19\, with sessions at 9AM and 6PM on Zoom.\n\n\n\nThis webinar will walk you through the union medical plan enrollment process\, help you explore available options\, and provide tips on maximizing your Health Reimbursement Account. Don’t miss this opportunity to get the most from your benefits—register today!\n\n\nRegister:\n\n9AM: https://shorturl.at/3MVcx\n6PM: https://shorturl.at/wOCDP
URL:https://ufcw135.com/event/open-enrollment-webinar/
CATEGORIES:Meeting
END:VEVENT
BEGIN:VEVENT
DTSTART;VALUE=DATE:20241128
DTEND;VALUE=DATE:20241130
DTSTAMP:20260425T121809
CREATED:20240202T183909Z
LAST-MODIFIED:20240202T183909Z
UID:15205-1732752000-1732924799@ufcw135.com
SUMMARY:CLOSED Thanksgiving
DESCRIPTION:UFCW Local 135’s offices will be closed on Thursday and Friday\, November 28 and 29 in observance of Thanksgiving.
URL:https://ufcw135.com/event/closed-thanksgiving/
CATEGORIES:Holiday
END:VEVENT
END:VCALENDAR