BEGIN:VCALENDAR
VERSION:2.0
PRODID:-//UFCW Local 135 - ECPv6.15.20//NONSGML v1.0//EN
CALSCALE:GREGORIAN
METHOD:PUBLISH
X-ORIGINAL-URL:https://ufcw135.com
X-WR-CALDESC:Events for UFCW Local 135
REFRESH-INTERVAL;VALUE=DURATION:PT1H
X-Robots-Tag:noindex
X-PUBLISHED-TTL:PT1H
BEGIN:VTIMEZONE
TZID:America/Los_Angeles
BEGIN:DAYLIGHT
TZOFFSETFROM:-0800
TZOFFSETTO:-0700
TZNAME:PDT
DTSTART:20230312T100000
END:DAYLIGHT
BEGIN:STANDARD
TZOFFSETFROM:-0700
TZOFFSETTO:-0800
TZNAME:PST
DTSTART:20231105T090000
END:STANDARD
BEGIN:DAYLIGHT
TZOFFSETFROM:-0800
TZOFFSETTO:-0700
TZNAME:PDT
DTSTART:20240310T100000
END:DAYLIGHT
BEGIN:STANDARD
TZOFFSETFROM:-0700
TZOFFSETTO:-0800
TZNAME:PST
DTSTART:20241103T090000
END:STANDARD
BEGIN:DAYLIGHT
TZOFFSETFROM:-0800
TZOFFSETTO:-0700
TZNAME:PDT
DTSTART:20250309T100000
END:DAYLIGHT
BEGIN:STANDARD
TZOFFSETFROM:-0700
TZOFFSETTO:-0800
TZNAME:PST
DTSTART:20251102T090000
END:STANDARD
END:VTIMEZONE
BEGIN:VEVENT
DTSTART;TZID=America/Los_Angeles:20241001T180000
DTEND;TZID=America/Los_Angeles:20241001T183000
DTSTAMP:20260425T133654
CREATED:20241001T182121Z
LAST-MODIFIED:20241001T182121Z
UID:15839-1727805600-1727807400@ufcw135.com
SUMMARY:Rite Aid Strike Authorization Vote Zoom Meetings 6PM
DESCRIPTION:There will be two Rite Aid Strike Authorization Vote Zoom Meetings this day \nRegister for either: \n8AM: https://us02web.zoom.us/meeting/register/tZUvf-6uqDIrHtPbwhOuk4dwvouIc42qGFoX \n6PM: https://us02web.zoom.us/meeting/register/tZMlcOioqzMjH9CPGEgrqZH8bMugXj5fc2KJ
URL:https://ufcw135.com/event/rite-aid-strike-authorization-vote-zoom-meetings-6pm/
CATEGORIES:Meeting
END:VEVENT
BEGIN:VEVENT
DTSTART;TZID=America/Los_Angeles:20241002T100000
DTEND;TZID=America/Los_Angeles:20241002T130000
DTSTAMP:20260425T133654
CREATED:20241001T182307Z
LAST-MODIFIED:20241001T182307Z
UID:15841-1727863200-1727874000@ufcw135.com
SUMMARY:Support CVS Workers Boycott Action
DESCRIPTION:With strike authority in hand\, our next non-union CVS customer boycott action is happening this Wednesday\, October 2\, from 10 AM to 1 PM in Ocean Beach!\n\n\n\nJoin us at 4949 Santa Monica Ave as we speak with customers about transferring their prescriptions to a union pharmacy and canceling their ExtraCare+ memberships.
URL:https://ufcw135.com/event/support-cvs-workers-boycott-action/
CATEGORIES:Action
END:VEVENT
BEGIN:VEVENT
DTSTART;TZID=America/Los_Angeles:20241003T080000
DTEND;TZID=America/Los_Angeles:20241003T083000
DTSTAMP:20260425T133654
CREATED:20241001T181759Z
LAST-MODIFIED:20241001T181945Z
UID:15836-1727942400-1727944200@ufcw135.com
SUMMARY:Rite Aid Strike Authorization Vote Zoom Meeting 8AM
DESCRIPTION:There will be two Rite Aid Strike Authorization Vote Zoom Meetings this day \nRegister for either: \n8AM: https://us02web.zoom.us/meeting/register/tZUvf-6uqDIrHtPbwhOuk4dwvouIc42qGFoX \n6PM: https://us02web.zoom.us/meeting/register/tZMlcOioqzMjH9CPGEgrqZH8bMugXj5fc2KJ
URL:https://ufcw135.com/event/rite-aid-strike-authorization-vote-zoom-meeting-8am/
CATEGORIES:Meeting
END:VEVENT
BEGIN:VEVENT
DTSTART;TZID=America/Los_Angeles:20241009T100000
DTEND;TZID=America/Los_Angeles:20241009T120000
DTSTAMP:20260425T133654
CREATED:20241007T221154Z
LAST-MODIFIED:20241007T221154Z
UID:15860-1728468000-1728475200@ufcw135.com
SUMMARY:CVS Customer Boycott Action
DESCRIPTION:Our nonunion CVS Customer Boycott Actions continue this Wednesday 10/9 from 10am-12pm at the CVS in Pacific Beach located at 4445 Mission Blvd. We’re asking customers to boycott CVS by moving their scripts and cancel their ExtraCare+ passes. Join us if you can!
URL:https://ufcw135.com/event/cvs-customer-boycott-action/
CATEGORIES:Action
END:VEVENT
BEGIN:VEVENT
DTSTART;TZID=America/Los_Angeles:20241016T100000
DTEND;TZID=America/Los_Angeles:20241016T120000
DTSTAMP:20260425T133654
CREATED:20241014T182628Z
LAST-MODIFIED:20241014T182628Z
UID:15866-1729072800-1729080000@ufcw135.com
SUMMARY:3 CVS Boycott Actions Downtown
DESCRIPTION:With CVS bargaining set to resume this Wednesday\, October 16\, so do our CVS Customer Boycott Actions! We’ll be at three nonunion CVS locations in Downtown San Diego from 10am-12pm encouraging customers to boycott the company\, transfer their prescriptions to a nearby union pharmacy\, and cancel the ExtraCare+ subscriptions.\n\n\n\nJoin us at CVS at 402 Fifth Ave\, 645 Market St\, and 101 Park Plaza as we engage with customers while fighting for a fair contract!
URL:https://ufcw135.com/event/3-cvs-boycott-actions-downtown/
CATEGORIES:Action
END:VEVENT
BEGIN:VEVENT
DTSTART;TZID=America/Los_Angeles:20241016T180000
DTEND;TZID=America/Los_Angeles:20241016T193000
DTSTAMP:20260425T133654
CREATED:20240202T190553Z
LAST-MODIFIED:20240202T190553Z
UID:15236-1729101600-1729107000@ufcw135.com
SUMMARY:Membership Meeting
DESCRIPTION:The quarterly UFCW Local 135 Membership Meeting takes place on Wednesday\, October 16 at 6pm at our Mission Valley union hall and online on Zoom. Food is served on a first come\, first served basis starting at 5pm.
URL:https://ufcw135.com/event/membership-meeting-11/
LOCATION:UFCW Local 135 Mission Valley location – meeting hall\, 2001 Camino del Rio South\, San Diego\, CA\, 92108\, United States
CATEGORIES:Meeting
END:VEVENT
BEGIN:VEVENT
DTSTART;VALUE=DATE:20241023
DTEND;VALUE=DATE:20241024
DTSTAMP:20260425T133654
CREATED:20241022T165724Z
LAST-MODIFIED:20241022T165724Z
UID:15898-1729641600-1729727999@ufcw135.com
SUMMARY:CVS Bargaining
DESCRIPTION:
URL:https://ufcw135.com/event/cvs-bargaining/
CATEGORIES:Negotiations
END:VEVENT
BEGIN:VEVENT
DTSTART;TZID=America/Los_Angeles:20241023T100000
DTEND;TZID=America/Los_Angeles:20241023T120000
DTSTAMP:20260425T133654
CREATED:20241018T220135Z
LAST-MODIFIED:20241018T220135Z
UID:15879-1729677600-1729684800@ufcw135.com
SUMMARY:CVS Solidarity Boycott Action
DESCRIPTION:  \nUFCW Local 135 will hold a CVS Solidarity Boycott Action on Wednesday\, October 23\, the same day as the next bargaining session. The boycott action will take place from 10:00 AM to 12:00 PM at the CVS Pharmacy located at 3327 Rosecrans Street in San Diego’s Midway District. Our members and labor allies will encourage customers to boycott CVS\, transfer their prescriptions to local union pharmacies\, cancel their ExtraCare+ subscriptions\, and not cross any strike lines until a fair contract is reached.
URL:https://ufcw135.com/event/cvs-solidarity-boycott-action/
CATEGORIES:Action
END:VEVENT
END:VCALENDAR