BEGIN:VCALENDAR
VERSION:2.0
PRODID:-//UFCW Local 135 - ECPv6.15.20//NONSGML v1.0//EN
CALSCALE:GREGORIAN
METHOD:PUBLISH
X-WR-CALNAME:UFCW Local 135
X-ORIGINAL-URL:https://ufcw135.com
X-WR-CALDESC:Events for UFCW Local 135
REFRESH-INTERVAL;VALUE=DURATION:PT1H
X-Robots-Tag:noindex
X-PUBLISHED-TTL:PT1H
BEGIN:VTIMEZONE
TZID:America/Los_Angeles
BEGIN:DAYLIGHT
TZOFFSETFROM:-0800
TZOFFSETTO:-0700
TZNAME:PDT
DTSTART:20230312T100000
END:DAYLIGHT
BEGIN:STANDARD
TZOFFSETFROM:-0700
TZOFFSETTO:-0800
TZNAME:PST
DTSTART:20231105T090000
END:STANDARD
BEGIN:DAYLIGHT
TZOFFSETFROM:-0800
TZOFFSETTO:-0700
TZNAME:PDT
DTSTART:20240310T100000
END:DAYLIGHT
BEGIN:STANDARD
TZOFFSETFROM:-0700
TZOFFSETTO:-0800
TZNAME:PST
DTSTART:20241103T090000
END:STANDARD
BEGIN:DAYLIGHT
TZOFFSETFROM:-0800
TZOFFSETTO:-0700
TZNAME:PDT
DTSTART:20250309T100000
END:DAYLIGHT
BEGIN:STANDARD
TZOFFSETFROM:-0700
TZOFFSETTO:-0800
TZNAME:PST
DTSTART:20251102T090000
END:STANDARD
END:VTIMEZONE
BEGIN:VEVENT
DTSTART;VALUE=DATE:20240704
DTEND;VALUE=DATE:20240705
DTSTAMP:20260425T173528
CREATED:20240202T183436Z
LAST-MODIFIED:20240202T183436Z
UID:15199-1720051200-1720137599@ufcw135.com
SUMMARY:CLOSED Independence Day
DESCRIPTION:UFCW Local 135’s offices will be closed on Thursday\, July 4 in observance of Independence Day.
URL:https://ufcw135.com/event/closed-independence-day/
CATEGORIES:Holiday
END:VEVENT
BEGIN:VEVENT
DTSTART;TZID=America/Los_Angeles:20240711T100000
DTEND;TZID=America/Los_Angeles:20240711T130000
DTSTAMP:20260425T173528
CREATED:20240702T201031Z
LAST-MODIFIED:20240702T201031Z
UID:15664-1720692000-1720702800@ufcw135.com
SUMMARY:CVS Customer Leafletting Actions
DESCRIPTION:UFCW’s CVS Worker Bargaining Committee returns to the table July 11\, and we’ll be conducting a few CVS Customer Leafletting Actions in south\, central and northern San Diego County that same day.\n\n\n\nJoin us from 10am-1pm at the following locations as we handbill and talk with customers about our fight for a new contract.\n\n\n\nCVS 9524\n3350 Palm Ave.\nSan Diego\, CA 92154\n\n\n\nCVS 9963\n5644 Mission Center Rd\nSan Diego\, CA 92108\n\n\n\nCVS 9103\n318 W. El Norte Pkwy\nEscondido\, CA 92026
URL:https://ufcw135.com/event/cvs-customer-leafletting-actions/
CATEGORIES:Negotiations,Protest
ATTACH;FMTTYPE=image/png:https://ufcw135.com/wp-content/uploads/2024/07/CVSst-handbillmbr2a.png
END:VEVENT
BEGIN:VEVENT
DTSTART;TZID=America/Los_Angeles:20240717T180000
DTEND;TZID=America/Los_Angeles:20240717T193000
DTSTAMP:20260425T173528
CREATED:20240202T190433Z
LAST-MODIFIED:20240202T190449Z
UID:15233-1721239200-1721244600@ufcw135.com
SUMMARY:Membership Meeting
DESCRIPTION:The quarterly UFCW Local 135 Membership Meeting takes place on Wednesday\, July 17 at 6pm at our Mission Valley union hall and online on Zoom. Food is served on a first come\, first served basis starting at 5pm.
URL:https://ufcw135.com/event/15233/
LOCATION:UFCW Local 135 Mission Valley location – meeting hall\, 2001 Camino del Rio South\, San Diego\, CA\, 92108\, United States
CATEGORIES:Meeting
END:VEVENT
BEGIN:VEVENT
DTSTART;TZID=America/Los_Angeles:20240718T140000
DTEND;TZID=America/Los_Angeles:20240718T170000
DTSTAMP:20260425T173528
CREATED:20240716T211303Z
LAST-MODIFIED:20240716T211303Z
UID:15693-1721311200-1721322000@ufcw135.com
SUMMARY:CVS Customer Leafletting Action
DESCRIPTION:With no contract at CVS\, UFCW Local 135 is ramping up our customer leafletting actions. \nThis Thursday\, July 18 from 2-5pm we’ll be at CVS #9165 located at 3327 Rosecrans Street in Point Loma engaging with customers. \nIf available\, join us for an hour. Members get a free union shirt for participating.
URL:https://ufcw135.com/event/cvs-customer-leafletting-action/
CATEGORIES:Action
END:VEVENT
BEGIN:VEVENT
DTSTART;TZID=America/Los_Angeles:20240724T130000
DTEND;TZID=America/Los_Angeles:20240724T160000
DTSTAMP:20260425T173528
CREATED:20240719T222722Z
LAST-MODIFIED:20240719T222747Z
UID:15701-1721826000-1721836800@ufcw135.com
SUMMARY:CVS Customer Leafletting Actions
DESCRIPTION:  \n\nWe’re continuing our customer engagement leafletting actions next Wednesday\, July 24 from 1-4pm at three CVS locations across the county. \n\n\n\nWe’ll be at #9187 in Solana Beach\, #9632 in Chula Vista\, and #8842 in El Cajon. If available\, join us for an hour as we engage with customers. \n\n\n\nCVS #9187 683 Lomas Santa Fe Dr. Solana Beach \n\n\n\nCVS #9632 691 Third Ave. Chula Vista \n\n\n\nCVS #8842 426 Chase Ave. El Cajon
URL:https://ufcw135.com/event/15701/
CATEGORIES:Action
END:VEVENT
BEGIN:VEVENT
DTSTART;TZID=America/Los_Angeles:20240731T130000
DTEND;TZID=America/Los_Angeles:20240731T160000
DTSTAMP:20260425T173528
CREATED:20240726T181644Z
LAST-MODIFIED:20240726T181644Z
UID:15707-1722430800-1722441600@ufcw135.com
SUMMARY:CVS Customer Leafletting Actions
DESCRIPTION:CVS Customer Leafletting Actions continue this Wednesday\, July 31 from 1-4pm at three CVS locations in San Diego County! Join us as we distribute flyers and encourage customers to support our fight for a fair contract by signing the online petition. \nLocations: \n\nCVS #9109: 6265 El Cajon Blvd\, San Diego\nCVS #9145: 9730 Mission Gorge Rd\, Santee\nCVS #9479: 2510 El Camino Real\, Carlsbad\n\nWorker support makes a difference! If available\, please join us for an hour to engage with customers and show your solidarity.
URL:https://ufcw135.com/event/cvs-customer-leafletting-actions-2/
CATEGORIES:Action
END:VEVENT
END:VCALENDAR