BEGIN:VCALENDAR
VERSION:2.0
PRODID:-//UFCW Local 135 - ECPv6.15.20//NONSGML v1.0//EN
CALSCALE:GREGORIAN
METHOD:PUBLISH
X-ORIGINAL-URL:https://ufcw135.com
X-WR-CALDESC:Events for UFCW Local 135
REFRESH-INTERVAL;VALUE=DURATION:PT1H
X-Robots-Tag:noindex
X-PUBLISHED-TTL:PT1H
BEGIN:VTIMEZONE
TZID:America/Los_Angeles
BEGIN:DAYLIGHT
TZOFFSETFROM:-0800
TZOFFSETTO:-0700
TZNAME:PDT
DTSTART:20230312T100000
END:DAYLIGHT
BEGIN:STANDARD
TZOFFSETFROM:-0700
TZOFFSETTO:-0800
TZNAME:PST
DTSTART:20231105T090000
END:STANDARD
BEGIN:DAYLIGHT
TZOFFSETFROM:-0800
TZOFFSETTO:-0700
TZNAME:PDT
DTSTART:20240310T100000
END:DAYLIGHT
BEGIN:STANDARD
TZOFFSETFROM:-0700
TZOFFSETTO:-0800
TZNAME:PST
DTSTART:20241103T090000
END:STANDARD
BEGIN:DAYLIGHT
TZOFFSETFROM:-0800
TZOFFSETTO:-0700
TZNAME:PDT
DTSTART:20250309T100000
END:DAYLIGHT
BEGIN:STANDARD
TZOFFSETFROM:-0700
TZOFFSETTO:-0800
TZNAME:PST
DTSTART:20251102T090000
END:STANDARD
END:VTIMEZONE
BEGIN:VEVENT
DTSTART;TZID=America/Los_Angeles:20240920T090000
DTEND;TZID=America/Los_Angeles:20240920T100000
DTSTAMP:20260424T013042
CREATED:20240917T185027Z
LAST-MODIFIED:20240917T185027Z
UID:15799-1726822800-1726826400@ufcw135.com
SUMMARY:CVS Strike Vote Zoom Meetings 9am & 6pm
DESCRIPTION:California UFCW Locals are conducting CVS strike authorization votes September 23-25. UFCW Local 135 is holding online informational Zoom meetings for CVS members this Friday 9/20 at 9AM and 6PM.\n\n\n\nContact your Union Rep or email info@ufcw135.com for the registration link.
URL:https://ufcw135.com/event/cvs-strike-vote-zoom-meetings-9am-6pm/
CATEGORIES:Vote
END:VEVENT
END:VCALENDAR