BEGIN:VCALENDAR
VERSION:2.0
PRODID:-//UFCW Local 135 - ECPv6.15.20//NONSGML v1.0//EN
CALSCALE:GREGORIAN
METHOD:PUBLISH
X-WR-CALNAME:UFCW Local 135
X-ORIGINAL-URL:https://ufcw135.com
X-WR-CALDESC:Events for UFCW Local 135
REFRESH-INTERVAL;VALUE=DURATION:PT1H
X-Robots-Tag:noindex
X-PUBLISHED-TTL:PT1H
BEGIN:VTIMEZONE
TZID:America/Los_Angeles
BEGIN:DAYLIGHT
TZOFFSETFROM:-0800
TZOFFSETTO:-0700
TZNAME:PDT
DTSTART:20210314T100000
END:DAYLIGHT
BEGIN:STANDARD
TZOFFSETFROM:-0700
TZOFFSETTO:-0800
TZNAME:PST
DTSTART:20211107T090000
END:STANDARD
BEGIN:DAYLIGHT
TZOFFSETFROM:-0800
TZOFFSETTO:-0700
TZNAME:PDT
DTSTART:20220313T100000
END:DAYLIGHT
BEGIN:STANDARD
TZOFFSETFROM:-0700
TZOFFSETTO:-0800
TZNAME:PST
DTSTART:20221106T090000
END:STANDARD
BEGIN:DAYLIGHT
TZOFFSETFROM:-0800
TZOFFSETTO:-0700
TZNAME:PDT
DTSTART:20230312T100000
END:DAYLIGHT
BEGIN:STANDARD
TZOFFSETFROM:-0700
TZOFFSETTO:-0800
TZNAME:PST
DTSTART:20231105T090000
END:STANDARD
END:VTIMEZONE
BEGIN:VEVENT
DTSTART;TZID=America/Los_Angeles:20220506T070000
DTEND;TZID=America/Los_Angeles:20220506T090000
DTSTAMP:20260425T131911
CREATED:20220502T172750Z
LAST-MODIFIED:20220502T172750Z
UID:13945-1651820400-1651827600@ufcw135.com
SUMMARY:Gelson's Ratification Vote Morning
DESCRIPTION:Southern California UFCW’s have reached a tentative agreement with Gelson’s on a new three-year contract. \nContract ratification voting will take place on Friday\, May 6\, 2022\, with walk-thru voting from 7AM-9AM and 4PM-6PM at all three Gelson’s locations. Members can vote at any location: \nGELSON’S – SAN DIEGO\n730 Turquoise St.\, San Diego\, CA 92109 \nGELSON’S – DEL MAR\n2707 Via De La Valle\, Del Mar\, CA 92014 \nGELSON’S – CARLSBAD\n7660 El Camino Real\, Carlsbad\, CA 92009 \nOnly active Gelson’s members in good standing are eligible to vote. \nThank you and we look forward to seeing you on May 6!
URL:https://ufcw135.com/event/gelsons-ratification-vote/
CATEGORIES:Vote
ATTACH;FMTTYPE=image/png:https://ufcw135.com/wp-content/uploads/2022/05/gelsons-voterat2a2.png
END:VEVENT
BEGIN:VEVENT
DTSTART;TZID=America/Los_Angeles:20220506T160000
DTEND;TZID=America/Los_Angeles:20220506T180000
DTSTAMP:20260425T131911
CREATED:20220502T172940Z
LAST-MODIFIED:20220502T172940Z
UID:13946-1651852800-1651860000@ufcw135.com
SUMMARY:Gelson's Ratification Vote - Afternoon
DESCRIPTION:Southern California UFCW’s have reached a tentative agreement with Gelson’s on a new three-year contract. \nContract ratification voting will take place on Friday\, May 6\, 2022\, with walk-thru voting from 7AM-9AM and 4PM-6PM at all three Gelson’s locations. Members can vote at any location: \nGELSON’S – SAN DIEGO\n730 Turquoise St.\, San Diego\, CA 92109 \nGELSON’S – DEL MAR\n2707 Via De La Valle\, Del Mar\, CA 92014 \nGELSON’S – CARLSBAD\n7660 El Camino Real\, Carlsbad\, CA 92009 \nOnly active Gelson’s members in good standing are eligible to vote. \nThank you and we look forward to seeing you on May 6!
URL:https://ufcw135.com/event/gelsons-ratification-vote-afternoon/
CATEGORIES:Vote
ATTACH;FMTTYPE=image/png:https://ufcw135.com/wp-content/uploads/2022/05/gelsons-voterat2a2.png
END:VEVENT
END:VCALENDAR