BEGIN:VCALENDAR
VERSION:2.0
PRODID:-//UFCW Local 135 - ECPv6.15.20//NONSGML v1.0//EN
CALSCALE:GREGORIAN
METHOD:PUBLISH
X-ORIGINAL-URL:https://ufcw135.com
X-WR-CALDESC:Events for UFCW Local 135
REFRESH-INTERVAL;VALUE=DURATION:PT1H
X-Robots-Tag:noindex
X-PUBLISHED-TTL:PT1H
BEGIN:VTIMEZONE
TZID:America/Los_Angeles
BEGIN:DAYLIGHT
TZOFFSETFROM:-0800
TZOFFSETTO:-0700
TZNAME:PDT
DTSTART:20210314T100000
END:DAYLIGHT
BEGIN:STANDARD
TZOFFSETFROM:-0700
TZOFFSETTO:-0800
TZNAME:PST
DTSTART:20211107T090000
END:STANDARD
BEGIN:DAYLIGHT
TZOFFSETFROM:-0800
TZOFFSETTO:-0700
TZNAME:PDT
DTSTART:20220313T100000
END:DAYLIGHT
BEGIN:STANDARD
TZOFFSETFROM:-0700
TZOFFSETTO:-0800
TZNAME:PST
DTSTART:20221106T090000
END:STANDARD
BEGIN:DAYLIGHT
TZOFFSETFROM:-0800
TZOFFSETTO:-0700
TZNAME:PDT
DTSTART:20230312T100000
END:DAYLIGHT
BEGIN:STANDARD
TZOFFSETFROM:-0700
TZOFFSETTO:-0800
TZNAME:PST
DTSTART:20231105T090000
END:STANDARD
BEGIN:DAYLIGHT
TZOFFSETFROM:-0800
TZOFFSETTO:-0700
TZNAME:PDT
DTSTART:20240310T100000
END:DAYLIGHT
BEGIN:STANDARD
TZOFFSETFROM:-0700
TZOFFSETTO:-0800
TZNAME:PST
DTSTART:20241103T090000
END:STANDARD
END:VTIMEZONE
BEGIN:VEVENT
DTSTART;TZID=America/Los_Angeles:20230805T083000
DTEND;TZID=America/Los_Angeles:20230805T170000
DTSTAMP:20260422T055859
CREATED:20230526T210514Z
LAST-MODIFIED:20230526T210514Z
UID:13990-1691224200-1691254800@ufcw135.com
SUMMARY:1-Day Adult Mental Health First Aid Training
DESCRIPTION:Mental Health America of San Diego County presents a\n1-Day Adult Mental Health First Aid Training \nSaturday\, August 5\, 2023\n8:30am until 5pm \nUFCW Local 135\n2001 Camino Del Rio South\nSan Diego\, CA 92108 \nMental Health First Aid for Adults teaches people how to recognize signs of mental health or substance use challenges in adults ages 18 and older\, how to offer and provide initial help\, and how to guide a person toward appropriate care if necessary. Topics covered include anxiety\, depression\, psychosis\, and addictions. \nThis in-person 1-day\, 8-hour training is only for members of UFCW Local 135. At the end of the training\, each participant will receive certification that is good for 3 years. Two 10-minute breaks and a 30-minute lunch break will be provided. \nSeating is limited\, please register early here: \nFor information on the programs provided by Mental Health America of San Diego County please visit their website.
URL:https://ufcw135.com/event/1-day-adult-mental-health-first-aid-training/
LOCATION:UFCW Local 135 Mission Valley location – meeting hall\, 2001 Camino del Rio South\, San Diego\, CA\, 92108\, United States
CATEGORIES:Training
END:VEVENT
BEGIN:VEVENT
DTSTART;TZID=America/Los_Angeles:20221207T180000
DTEND;TZID=America/Los_Angeles:20221207T200000
DTSTAMP:20260422T055859
CREATED:20221130T174259Z
LAST-MODIFIED:20221130T174259Z
UID:13977-1670436000-1670443200@ufcw135.com
SUMMARY:Open Enrollment Seminar on Zoom
DESCRIPTION:The United Food & Commercial Workers Unions and Food Employers Benefit Fund is hosting an Open Enrollment Seminar on December 7 at 6pm on Zoom.\n\n \n\n 	Learn more about enrolling in your union medical plan.\n \n 	See what medical plans and benefits are offered.\n \n 	Understand how to optimize your Health Reimbursement Account.\n\n \nRegister for the seminar HERE.
URL:https://ufcw135.com/event/open-enrollment-seminar-on-zoom/
LOCATION:CA
CATEGORIES:Training
END:VEVENT
BEGIN:VEVENT
DTSTART;TZID=America/Los_Angeles:20220727T180000
DTEND;TZID=America/Los_Angeles:20220727T200000
DTSTAMP:20260422T055859
CREATED:20220624T222147Z
LAST-MODIFIED:20220624T222147Z
UID:13951-1658944800-1658952000@ufcw135.com
SUMMARY:Steward Training: Safety and Self-Care in the Workplace
DESCRIPTION:UFCW Local 135 will be hosting steward trainings titled Safety and Self-Care in the Workplace.\n\n\n\nThese trainings will help stewards learn how to respond to difficult work situations and manage stress. Stewards will be provided tools on how to intervene and de-escalate situations and how to de-stress and “turn off work” after work.\n\n\n\nTrainings will take place on Wednesday\, July 27 at 9am and 6pm at the Mission Valley union hall located at 2001 Camino Del Rio South\, San Diego\, California 92108.\n\n\n\nThese trainings are open to stewards only. If you’re a UFCW Local 135 steward\, and would like to participate\, let your union rep know and we’ll reserve a seat.
URL:https://ufcw135.com/event/steward-training-safety-and-self-care-in-the-workplace-2/
LOCATION:UFCW Local 135 Mission Valley location – meeting hall\, 2001 Camino del Rio South\, San Diego\, CA\, 92108\, United States
CATEGORIES:Training
ORGANIZER;CN="UFCW Local 135":MAILTO:info@ufcw135.com
END:VEVENT
BEGIN:VEVENT
DTSTART;TZID=America/Los_Angeles:20220727T090000
DTEND;TZID=America/Los_Angeles:20220727T110000
DTSTAMP:20260422T055900
CREATED:20220624T222025Z
LAST-MODIFIED:20220624T222025Z
UID:13950-1658912400-1658919600@ufcw135.com
SUMMARY:Steward Training: Safety and Self-Care in the Workplace
DESCRIPTION:UFCW Local 135 will be hosting steward trainings titled Safety and Self-Care in the Workplace.\n\n\n\nThese trainings will help stewards learn how to respond to difficult work situations and manage stress. Stewards will be provided tools on how to intervene and de-escalate situations and how to de-stress and “turn off work” after work.\n\n\n\nTrainings will take place on Wednesday\, July 27 at 9am and 6pm at the Mission Valley union hall located at 2001 Camino Del Rio South\, San Diego\, California 92108.\n\n\n\nThese trainings are open to stewards only. If you’re a UFCW Local 135 steward\, and would like to participate\, let your union rep know and we’ll reserve a seat.
URL:https://ufcw135.com/event/steward-training-safety-and-self-care-in-the-workplace/
LOCATION:UFCW Local 135 Mission Valley location – meeting hall\, 2001 Camino del Rio South\, San Diego\, CA\, 92108\, United States
CATEGORIES:Training
ORGANIZER;CN="UFCW Local 135":MAILTO:info@ufcw135.com
END:VEVENT
END:VCALENDAR