BEGIN:VCALENDAR
VERSION:2.0
PRODID:-//UFCW Local 135 - ECPv6.15.18//NONSGML v1.0//EN
CALSCALE:GREGORIAN
METHOD:PUBLISH
X-WR-CALNAME:UFCW Local 135
X-ORIGINAL-URL:https://ufcw135.com
X-WR-CALDESC:Events for UFCW Local 135
REFRESH-INTERVAL;VALUE=DURATION:PT1H
X-Robots-Tag:noindex
X-PUBLISHED-TTL:PT1H
BEGIN:VTIMEZONE
TZID:America/Los_Angeles
BEGIN:DAYLIGHT
TZOFFSETFROM:-0800
TZOFFSETTO:-0700
TZNAME:PDT
DTSTART:20200308T100000
END:DAYLIGHT
BEGIN:STANDARD
TZOFFSETFROM:-0700
TZOFFSETTO:-0800
TZNAME:PST
DTSTART:20201101T090000
END:STANDARD
BEGIN:DAYLIGHT
TZOFFSETFROM:-0800
TZOFFSETTO:-0700
TZNAME:PDT
DTSTART:20210314T100000
END:DAYLIGHT
BEGIN:STANDARD
TZOFFSETFROM:-0700
TZOFFSETTO:-0800
TZNAME:PST
DTSTART:20211107T090000
END:STANDARD
BEGIN:DAYLIGHT
TZOFFSETFROM:-0800
TZOFFSETTO:-0700
TZNAME:PDT
DTSTART:20220313T100000
END:DAYLIGHT
BEGIN:STANDARD
TZOFFSETFROM:-0700
TZOFFSETTO:-0800
TZNAME:PST
DTSTART:20221106T090000
END:STANDARD
BEGIN:DAYLIGHT
TZOFFSETFROM:-0800
TZOFFSETTO:-0700
TZNAME:PDT
DTSTART:20230312T100000
END:DAYLIGHT
BEGIN:STANDARD
TZOFFSETFROM:-0700
TZOFFSETTO:-0800
TZNAME:PST
DTSTART:20231105T090000
END:STANDARD
BEGIN:DAYLIGHT
TZOFFSETFROM:-0800
TZOFFSETTO:-0700
TZNAME:PDT
DTSTART:20240310T100000
END:DAYLIGHT
BEGIN:STANDARD
TZOFFSETFROM:-0700
TZOFFSETTO:-0800
TZNAME:PST
DTSTART:20241103T090000
END:STANDARD
BEGIN:DAYLIGHT
TZOFFSETFROM:-0800
TZOFFSETTO:-0700
TZNAME:PDT
DTSTART:20250309T100000
END:DAYLIGHT
BEGIN:STANDARD
TZOFFSETFROM:-0700
TZOFFSETTO:-0800
TZNAME:PST
DTSTART:20251102T090000
END:STANDARD
BEGIN:DAYLIGHT
TZOFFSETFROM:-0800
TZOFFSETTO:-0700
TZNAME:PDT
DTSTART:20260308T100000
END:DAYLIGHT
BEGIN:STANDARD
TZOFFSETFROM:-0700
TZOFFSETTO:-0800
TZNAME:PST
DTSTART:20261101T090000
END:STANDARD
END:VTIMEZONE
BEGIN:VEVENT
DTSTART;TZID=America/Los_Angeles:20250501T100000
DTEND;TZID=America/Los_Angeles:20250501T120000
DTSTAMP:20260419T183830
CREATED:20250421T171113Z
LAST-MODIFIED:20250421T171113Z
UID:16252-1746093600-1746100800@ufcw135.com
SUMMARY:May Day March & Rally
DESCRIPTION:This May Day\, we hit the streets!\n\n\n\nJoin UFCW Local 135 and San Diego’s labor movement on Thursday\, May 1 at 10AM at UCSD Medical Center in Hillcrest for the May Day March and Rally!\n\n\n\nOrganized labor is rising up—demanding better contracts\, fair pay\, and respect on the job. Let’s show our strength in numbers and solidarity across unions.\n\n\nBe there. Be loud. And be union proud!\n\n\n\nWear your UFCW swag and represent!
URL:https://ufcw135.com/event/may-day-march-rally/
CATEGORIES:Action,Protest
END:VEVENT
BEGIN:VEVENT
DTSTART;TZID=America/Los_Angeles:20240711T100000
DTEND;TZID=America/Los_Angeles:20240711T130000
DTSTAMP:20260419T183830
CREATED:20240702T201031Z
LAST-MODIFIED:20240702T201031Z
UID:15664-1720692000-1720702800@ufcw135.com
SUMMARY:CVS Customer Leafletting Actions
DESCRIPTION:UFCW’s CVS Worker Bargaining Committee returns to the table July 11\, and we’ll be conducting a few CVS Customer Leafletting Actions in south\, central and northern San Diego County that same day.\n\n\n\nJoin us from 10am-1pm at the following locations as we handbill and talk with customers about our fight for a new contract.\n\n\n\nCVS 9524\n3350 Palm Ave.\nSan Diego\, CA 92154\n\n\n\nCVS 9963\n5644 Mission Center Rd\nSan Diego\, CA 92108\n\n\n\nCVS 9103\n318 W. El Norte Pkwy\nEscondido\, CA 92026
URL:https://ufcw135.com/event/cvs-customer-leafletting-actions/
CATEGORIES:Negotiations,Protest
ATTACH;FMTTYPE=image/png:https://ufcw135.com/wp-content/uploads/2024/07/CVSst-handbillmbr2a.png
END:VEVENT
BEGIN:VEVENT
DTSTART;TZID=America/Los_Angeles:20240307T100000
DTEND;TZID=America/Los_Angeles:20240307T120000
DTSTAMP:20260419T183830
CREATED:20240215T225034Z
LAST-MODIFIED:20240215T225034Z
UID:15298-1709805600-1709812800@ufcw135.com
SUMMARY:Food4Less Contract Campaign Kick-Off Rally
DESCRIPTION:United4Better!\nWages\, Staffing\, Safety & Benefits\nFood4Less Contract Campaign Kick-Off Rally!\n\n\n\n\n\nJoin SoCal F4L Workers\nThursday\, March 7\, 2024 from 10:00 AM – 12:00PM\nFood4Less\n3000 Baldwin Park Blvd\nBaldwin Park\, California\n\n\n\nUFCW Local 135 is organizing a bus trip for F4L members\, shop stewards\, retirees\, and staff to attend the Food4Less contract campaign kick-off rally alongside UFCW F4L workers from throughout Southern California.\n\n\n\nThe bus will depart from the Mission Valley office at 6:30 AM on March 7 and return after the rally. Food will be provided.\n\n\n\nTo reserve your spot on the bus\, click the link and fill out the online registration form by March 1. F4L members will get priority reservations on the bus.\n\n\n\nRegister here: https://forms.gle/YN1vaxdSPij55TUJ8\n\n\n\nTogether\, We Are United4Better!
URL:https://ufcw135.com/event/food4less-contract-campaign-kick-off-rally/
LOCATION:Food4Less\, 3000 Baldwin Park Blvd\, Baldwin Park\, United States
CATEGORIES:Protest
END:VEVENT
BEGIN:VEVENT
DTSTART;VALUE=DATE:20230309
DTEND;VALUE=DATE:20230404
DTSTAMP:20260419T183830
CREATED:20230311T001203Z
LAST-MODIFIED:20230311T001203Z
UID:13988-1678320000-1680566399@ufcw135.com
SUMMARY:Spreckels Workers on ULP Strike
DESCRIPTION:
URL:https://ufcw135.com/event/spreckels-workers-on-ulp-strike/
LOCATION:Elementor Header #9274
CATEGORIES:Protest
END:VEVENT
BEGIN:VEVENT
DTSTART;TZID=America/Los_Angeles:20220228T120000
DTEND;TZID=America/Los_Angeles:20220228T140000
DTSTAMP:20260419T183830
CREATED:20220204T225325Z
LAST-MODIFIED:20220204T225325Z
UID:13928-1646049600-1646056800@ufcw135.com
SUMMARY:UFCW Food Contract Rally
DESCRIPTION:UFCW Local 135 Food Contract Rally\nMonday\, February 28 at Noon\nRalphs at 3345 Sports Arena Blvd \nGrocery contracts for thousands of UFCW members across Southern California at Albertsons\, Gelson’s\, Ralphs\, Stater Bros\, and Vons are set to expire at 12AM on March 6. These essential grocery workers served their communities and country during the pandemic. They sacrificed for the greater good and continue to do so.\n\n \n\nJoin the union members of UFCW Local 135 as they rally together to show the companies and community at large that they continue to be essential and that they deserve a new union contract that reflects the service and sacrifices that they have made.
URL:https://ufcw135.com/event/ufcw-food-contract-rally/
CATEGORIES:Negotiations,Protest
END:VEVENT
BEGIN:VEVENT
DTSTART;TZID=America/Los_Angeles:20210916T130000
DTEND;TZID=America/Los_Angeles:20210916T150000
DTSTAMP:20260419T183830
CREATED:20210910T164739Z
LAST-MODIFIED:20210910T164739Z
UID:13893-1631797200-1631804400@ufcw135.com
SUMMARY:CVS Customer Action
DESCRIPTION:The members of UFCW Locals at CVS Pharmacies from the San Francisco Bay to the US-Mexico border have been working without a contract for over two months. CVS continues to stall at the bargaining table so it’s time to ramp up the actions. \nUnion members will be protesting the lack of a contract and will handbill customers at four CVS locations in San Diego County from September 13-16. Please join us as we engage with CVS customers\, inform them of the company’s unwillingness to negotiate a fair contract\, and ask them to sign the online petition in support of the essential workers at CVS. \n9/16 1-3pm\nCVS 9187\n683 Lomas Santa Fe\nSolana Beach\, 92075
URL:https://ufcw135.com/event/cvs-customer-action-4/
LOCATION:CVS Pharmacy\, 683 Lomas Santa Fe\, Solana Beach\, CA\, 92075
CATEGORIES:Protest
ATTACH;FMTTYPE=image/png:https://ufcw135.com/wp-content/uploads/2021/09/CVS-LD-Action.png
ORGANIZER;CN="UFCW Local 135":MAILTO:info@ufcw135.com
END:VEVENT
BEGIN:VEVENT
DTSTART;TZID=America/Los_Angeles:20210915T130000
DTEND;TZID=America/Los_Angeles:20210915T150000
DTSTAMP:20260419T183830
CREATED:20210910T164520Z
LAST-MODIFIED:20210910T164520Z
UID:13892-1631710800-1631718000@ufcw135.com
SUMMARY:CVS Customer Action
DESCRIPTION:The members of UFCW Locals at CVS Pharmacies from the San Francisco Bay to the US-Mexico border have been working without a contract for over two months. CVS continues to stall at the bargaining table so it’s time to ramp up the actions. \nUnion members will be protesting the lack of a contract and will handbill customers at four CVS locations in San Diego County from September 13-16. Please join us as we engage with CVS customers\, inform them of the company’s unwillingness to negotiate a fair contract\, and ask them to sign the online petition in support of the essential workers at CVS. \n9/15 from 1-3pm\nCVS 9103\n318 W. El Norte Pkwy\nEscondido\, 92026
URL:https://ufcw135.com/event/cvs-customer-action-3/
LOCATION:CVS Pharmacy\, 683 Lomas Santa Fe\, Solana Beach\, CA\, 92075
CATEGORIES:Protest
ATTACH;FMTTYPE=image/png:https://ufcw135.com/wp-content/uploads/2021/09/CVS-LD-Action.png
ORGANIZER;CN="UFCW Local 135":MAILTO:info@ufcw135.com
END:VEVENT
BEGIN:VEVENT
DTSTART;TZID=America/Los_Angeles:20210914T130000
DTEND;TZID=America/Los_Angeles:20210914T150000
DTSTAMP:20260419T183830
CREATED:20210910T164252Z
LAST-MODIFIED:20210910T164252Z
UID:13891-1631624400-1631631600@ufcw135.com
SUMMARY:CVS Customer Action
DESCRIPTION:The members of UFCW Locals at CVS Pharmacies from the San Francisco Bay to the US-Mexico border have been working without a contract for over two months. CVS continues to stall at the bargaining table so it’s time to ramp up the actions. \nUnion members will be protesting the lack of a contract and will handbill customers at four CVS locations in San Diego County from September 13-16. Please join us as we engage with CVS customers\, inform them of the company’s unwillingness to negotiate a fair contract\, and ask them to sign the online petition in support of the essential workers at CVS. \n9/14 1-3pm\nCVS 9138\n1201 Plaza Blvd\nNational City\, 91950
URL:https://ufcw135.com/event/cvs-customer-action-2/
LOCATION:CVS Pharmacy\, 683 Lomas Santa Fe\, Solana Beach\, CA\, 92075
CATEGORIES:Protest
ATTACH;FMTTYPE=image/png:https://ufcw135.com/wp-content/uploads/2021/09/CVS-LD-Action.png
END:VEVENT
BEGIN:VEVENT
DTSTART;TZID=America/Los_Angeles:20210913T130000
DTEND;TZID=America/Los_Angeles:20210913T150000
DTSTAMP:20260419T183830
CREATED:20210910T164051Z
LAST-MODIFIED:20210910T164051Z
UID:13890-1631538000-1631545200@ufcw135.com
SUMMARY:CVS Customer Action
DESCRIPTION:The members of UFCW Locals at CVS Pharmacies from the San Francisco Bay to the US-Mexico border have been working without a contract for over two months. CVS continues to stall at the bargaining table so it’s time to ramp up the actions. \nUnion members will be protesting the lack of a contract and will handbill customers at four CVS locations in San Diego County from September 13-16. Please join us as we engage with CVS customers\, inform them of the company’s unwillingness to negotiate a fair contract\, and ask them to sign the online petition in support of the essential workers at CVS. \n9/13 1-3pm\nCVS 8842\n426 East Chase Ave\nEl Cajon\, 92020
URL:https://ufcw135.com/event/cvs-customer-action/
LOCATION:CVS Pharmacy\, 683 Lomas Santa Fe\, Solana Beach\, CA\, 92075
CATEGORIES:Protest
ATTACH;FMTTYPE=image/png:https://ufcw135.com/wp-content/uploads/2021/09/CVS-LD-Action.png
ORGANIZER;CN="UFCW Local 135":MAILTO:info@ufcw135.com
END:VEVENT
BEGIN:VEVENT
DTSTART;TZID=America/Los_Angeles:20210906T100000
DTEND;TZID=America/Los_Angeles:20210906T120000
DTSTAMP:20260419T183830
CREATED:20210826T002840Z
LAST-MODIFIED:20210826T002840Z
UID:13889-1630922400-1630929600@ufcw135.com
SUMMARY:Labor Day Rally in Support of Essential CVS Workers
DESCRIPTION:Stand with Essential CVS Workers\nLABOR DAY RALLY\n\n\n\nJoin UFCW Local 135 and the San Diego & Imperial Counties Labor Council for a morning protest rally in support of the essential workers at CVS!\n\n\n\nMonday\, September 7\, 2021 at 10am\n\n\nCVS Pharmacy at Loma Square\n3327 Rosecrans St.\, San Diego\n\n\n\nThe members of UFCW Local 135 at CVS Pharmacy have been working with an expired contract since June 30 and have been engaged in negotiations even longer. Though these workers have been essential to the company and community during the pandemic\, CVS continues to undervalue their contributions.\n\n\n\nThe essential workers at CVS are fighting for a new contract that includes:\n• Higher wages\n• Better staffing\n• Improved safety standards\n• Better store and worker security and\n• Fair and affordable family healthcare\n\n\n\nPlease stand with them as they continue to service their communities during the pandemic!\n\n\n\nOrganized by UFCW Local 135 and the San Diego & Imperial Counties Labor Council.\n\n\n\nFor more information email info@ufcw135.com.
URL:https://ufcw135.com/event/labor-day-rally-in-support-of-essential-cvs-workers/
LOCATION:CVS Pharmacy\, 683 Lomas Santa Fe\, Solana Beach\, CA\, 92075
CATEGORIES:Protest
ATTACH;FMTTYPE=image/png:https://ufcw135.com/wp-content/uploads/2021/08/labordayrallyflier2a.png
ORGANIZER;CN="UFCW Local 135":MAILTO:info@ufcw135.com
END:VEVENT
BEGIN:VEVENT
DTSTART;TZID=America/Los_Angeles:20210804T130000
DTEND;TZID=America/Los_Angeles:20210804T150000
DTSTAMP:20260419T183830
CREATED:20210803T163055Z
LAST-MODIFIED:20210803T163055Z
UID:13886-1628082000-1628089200@ufcw135.com
SUMMARY:Protest Rally in Support of Fired Nonunion CVS Worker
DESCRIPTION:Maria “Betty” Rodriguez was fired recently from her job at a nonunion CVS Pharmacy in Imperial Beach. Betty was terminated after helping to organize her co-workers into joining UFCW. Betty feels she was unjustly fired and UFCW agrees and filed board charges with the National Labor Relations Board against CVS. Betty and her co-workers signed enough union cards at her former location to force an election. UFCW Local 135 filed the cards with the NLRB on July 14\, and she was fired on July 28. The union certification vote is scheduled to take place on August 13. \nUFCW Local 135 – with help from our allies in labor and the community – will be holding a protest rally at CVS Pharmacy at 800 Palm Avenue in Imperial Beach next Wednesday\, August 4 from 1-3pm.  \nWe demand the immediate cessation of all anti-union activities by CVS Pharmacy! \nUnjust firings must not stand! Workers have a right to organize! \nJoin us on Wednesday\, August 4 as we call attention to the shameless\, retaliatory\, union busting activities of this multi-billion-dollar corporation!
URL:https://ufcw135.com/event/protest-rally-in-support-of-fired-nonunion-cvs-worker/
LOCATION:CVS Pharmacy\, 683 Lomas Santa Fe\, Solana Beach\, CA\, 92075
CATEGORIES:Protest
ORGANIZER;CN="UFCW Local 135":MAILTO:info@ufcw135.com
END:VEVENT
BEGIN:VEVENT
DTSTART;TZID=America/Los_Angeles:20210528T120000
DTEND;TZID=America/Los_Angeles:20210528T140000
DTSTAMP:20260419T183830
CREATED:20210521T230342Z
LAST-MODIFIED:20210521T230342Z
UID:13885-1622203200-1622210400@ufcw135.com
SUMMARY:F4L Protest Rally Escondido
DESCRIPTION:With contract talks at a stand still and no new negotiation dates scheduled\, UFCW Local 135 and the rest of the Southern California UFCW Locals are organizing more actions outside Food 4 Less stores.\n\n\n\nWe will be holding two protest rallies next week in San Diego County. One in Mission Valley and the other in Escondido.\n\n\n\nOn Tuesday\, May 25 from 3-5pm we’ll be at Food 4 Less at Hazard Center in Mission Valley and then on Friday\, May 28 from 12-2pm we’ll be at Food 4 Less on N Broadway in Escondido.\n\n\n\nWe’re calling on all of our sisters and brothers in labor\, our friends that hold elected office\, our allies in the community\, and our members from other Local 135 bargaining units to join the workers at Food 4 Less for these two actions.\n\n\n\nWe will be picketing and holding a rally in the parking lots of both locations calling on the public to support these essential workers.\n\n\nJoin us in our just demands for a better contract and help us Fight4More!
URL:https://ufcw135.com/event/f4l-protest-rally-escondido/
LOCATION:Food 4 Less\, 644 N Broadway\, Escondido\, CA
CATEGORIES:Negotiations,Protest
ORGANIZER;CN="UFCW Local 135":MAILTO:info@ufcw135.com
END:VEVENT
BEGIN:VEVENT
DTSTART;TZID=America/Los_Angeles:20210525T150000
DTEND;TZID=America/Los_Angeles:20210525T170000
DTSTAMP:20260419T183830
CREATED:20210521T230137Z
LAST-MODIFIED:20210521T230137Z
UID:13884-1621954800-1621962000@ufcw135.com
SUMMARY:F4L Protest Rally Mission Valley
DESCRIPTION:With contract talks at a stand still and no new negotiation dates scheduled\, UFCW Local 135 and the rest of the Southern California UFCW Locals are organizing more actions outside Food 4 Less stores.\n\n\n\nWe will be holding two protest rallies next week in San Diego County. One in Mission Valley and the other in Escondido.\n\n\n\nOn Tuesday\, May 25 from 3-5pm we’ll be at Food 4 Less at Hazard Center in Mission Valley and then on Friday\, May 28 from 12-2pm we’ll be at Food 4 Less on N Broadway in Escondido.\n\n\n\nWe’re calling on all of our sisters and brothers in labor\, our friends that hold elected office\, our allies in the community\, and our members from other Local 135 bargaining units to join the workers at Food 4 Less for these two actions.\n\n\n\nWe will be picketing and holding a rally in the parking lots of both locations calling on the public to support these essential workers.\n\n\nJoin us in our just demands for a better contract and help us Fight4More!
URL:https://ufcw135.com/event/f4l-protest-rally/
LOCATION:Food 4 Less\, 644 N Broadway\, Escondido\, CA
CATEGORIES:Negotiations,Protest
ORGANIZER;CN="UFCW Local 135":MAILTO:info@ufcw135.com
END:VEVENT
END:VCALENDAR