BEGIN:VCALENDAR
VERSION:2.0
PRODID:-//UFCW Local 135 - ECPv6.15.20//NONSGML v1.0//EN
CALSCALE:GREGORIAN
METHOD:PUBLISH
X-ORIGINAL-URL:https://ufcw135.com
X-WR-CALDESC:Events for UFCW Local 135
REFRESH-INTERVAL;VALUE=DURATION:PT1H
X-Robots-Tag:noindex
X-PUBLISHED-TTL:PT1H
BEGIN:VTIMEZONE
TZID:America/Los_Angeles
BEGIN:DAYLIGHT
TZOFFSETFROM:-0800
TZOFFSETTO:-0700
TZNAME:PDT
DTSTART:20200308T100000
END:DAYLIGHT
BEGIN:STANDARD
TZOFFSETFROM:-0700
TZOFFSETTO:-0800
TZNAME:PST
DTSTART:20201101T090000
END:STANDARD
BEGIN:DAYLIGHT
TZOFFSETFROM:-0800
TZOFFSETTO:-0700
TZNAME:PDT
DTSTART:20210314T100000
END:DAYLIGHT
BEGIN:STANDARD
TZOFFSETFROM:-0700
TZOFFSETTO:-0800
TZNAME:PST
DTSTART:20211107T090000
END:STANDARD
BEGIN:DAYLIGHT
TZOFFSETFROM:-0800
TZOFFSETTO:-0700
TZNAME:PDT
DTSTART:20220313T100000
END:DAYLIGHT
BEGIN:STANDARD
TZOFFSETFROM:-0700
TZOFFSETTO:-0800
TZNAME:PST
DTSTART:20221106T090000
END:STANDARD
BEGIN:DAYLIGHT
TZOFFSETFROM:-0800
TZOFFSETTO:-0700
TZNAME:PDT
DTSTART:20230312T100000
END:DAYLIGHT
BEGIN:STANDARD
TZOFFSETFROM:-0700
TZOFFSETTO:-0800
TZNAME:PST
DTSTART:20231105T090000
END:STANDARD
BEGIN:DAYLIGHT
TZOFFSETFROM:-0800
TZOFFSETTO:-0700
TZNAME:PDT
DTSTART:20240310T100000
END:DAYLIGHT
BEGIN:STANDARD
TZOFFSETFROM:-0700
TZOFFSETTO:-0800
TZNAME:PST
DTSTART:20241103T090000
END:STANDARD
BEGIN:DAYLIGHT
TZOFFSETFROM:-0800
TZOFFSETTO:-0700
TZNAME:PDT
DTSTART:20250309T100000
END:DAYLIGHT
BEGIN:STANDARD
TZOFFSETFROM:-0700
TZOFFSETTO:-0800
TZNAME:PST
DTSTART:20251102T090000
END:STANDARD
BEGIN:DAYLIGHT
TZOFFSETFROM:-0800
TZOFFSETTO:-0700
TZNAME:PDT
DTSTART:20260308T100000
END:DAYLIGHT
BEGIN:STANDARD
TZOFFSETFROM:-0700
TZOFFSETTO:-0800
TZNAME:PST
DTSTART:20261101T090000
END:STANDARD
END:VTIMEZONE
BEGIN:VEVENT
DTSTART;TZID=America/Los_Angeles:20250709T080000
DTEND;TZID=America/Los_Angeles:20250711T170000
DTSTAMP:20260422T074058
CREATED:20250708T180947Z
LAST-MODIFIED:20250708T180947Z
UID:16360-1752048000-1752253200@ufcw135.com
SUMMARY:Grocery Contract Ratification Vote
DESCRIPTION:Contract ratification voting begins Wednesday\, July 9 at 8AM and runs through Friday\, July 11 at 5PM.\n\n\n\nVoting is electronic over three days\, giving you time to review the agreement and get any questions answered by your Union Rep.\n\nReach out to your Union Rep if you don’t receive a text/email ballot.
URL:https://ufcw135.com/event/grocery-contract-ratification-vote/
CATEGORIES:Election
END:VEVENT
BEGIN:VEVENT
DTSTART;TZID=America/Los_Angeles:20250319T080000
DTEND;TZID=America/Los_Angeles:20250319T180000
DTSTAMP:20260422T074058
CREATED:20250311T220844Z
LAST-MODIFIED:20250311T220844Z
UID:16146-1742371200-1742407200@ufcw135.com
SUMMARY:Viejas Ratification Vote
DESCRIPTION:The in-person Viejas contract ratification vote will take place on:\nWednesday\, March 19\, 2025\n\n\n8:00AM until 6:00PM\nat\nUFCW Local 135\n2001 Camino del Rio South\nSan Diego\, CA 92108\n\n\n\nOnly active Viejas members in good standing are eligible to vote. Please remember to bring your ID.
URL:https://ufcw135.com/event/viejas-ratification-vote/
LOCATION:UFCW Local 135 Mission Valley location – meeting hall\, 2001 Camino del Rio South\, San Diego\, CA\, 92108\, United States
CATEGORIES:Election
END:VEVENT
BEGIN:VEVENT
DTSTART;TZID=America/Los_Angeles:20240923T080000
DTEND;TZID=America/Los_Angeles:20240925T170000
DTSTAMP:20260422T074058
CREATED:20240916T220613Z
LAST-MODIFIED:20240916T220613Z
UID:15794-1727078400-1727283600@ufcw135.com
SUMMARY:CVS Strike Authorization Vote
DESCRIPTION:The contract at CVS has been expired for over two months\, and negotiations are dragging on with weak wage proposals by the company. To push for the fair contract we deserve\, our members will be taking an electronic strike vote starting September 23 at 8:00 AM through September 25 at 5:00 PM. \nVoting will be conducted via text message or email only. Please ensure we have your current and valid email address and/or cell phone number on file for you to receive the necessary information to participate. \nVoting is one of the most vital actions a union member can take. \nIt’s time to make your voice heard—vote to strike! \nVoting results will be determined by the aggregate vote totals of California CVS Pharmacy members at UFCW Local 5\, 135\, 324\, 648\, 770\, 1167\, 1428\, and 1442. \nPlease contact your Union Rep if you need to update your contact information or if you do not receive your electronic ballot by September 23 at 8:00 AM.
URL:https://ufcw135.com/event/cvs-strike-authorization-vote/
CATEGORIES:Election
END:VEVENT
BEGIN:VEVENT
DTSTART;TZID=America/Los_Angeles:20220718T080000
DTEND;TZID=America/Los_Angeles:20220720T160000
DTSTAMP:20260422T074058
CREATED:20220714T191039Z
LAST-MODIFIED:20220714T191039Z
UID:13952-1658131200-1658332800@ufcw135.com
SUMMARY:Grocery Pharmacy Strike Vote
DESCRIPTION:UFCW returned to the bargaining table on July 13 to fight for a new contract for Albertsons\, Vons\, and Ralphs pharmacists. Though bargaining continues\, progress has been slow\, and action must be taken to push negotiations forward. Our pharmacists have worked valiantly through the pandemic and have earned the right to higher wages and better working conditions. \nA strike vote of all eligible UFCW pharmacists from Albertsons\, Vons\, and Ralphs will take place online\, via text or email\, July 18-20 through Election Buddy. Voting opens at 8am on July 18 and closes July 20 at 4pm with results to be announced shortly after. \nIf you do not receive your pharmacy ballot by 8:30am on July 18\, call Communications Director Brent Beltran at 619.866.8595. He will help remedy the situation.
URL:https://ufcw135.com/event/grocery-pharmacy-strike-vote/
CATEGORIES:Election
ATTACH;FMTTYPE=image/png:https://ufcw135.com/wp-content/uploads/2022/07/pharmacystrikevote2.png
END:VEVENT
BEGIN:VEVENT
DTSTART;TZID=America/Los_Angeles:20210128T090000
DTEND;TZID=America/Los_Angeles:20210128T100000
DTSTAMP:20260422T074058
CREATED:20210125T234006Z
LAST-MODIFIED:20210125T234006Z
UID:13825-1611824400-1611828000@ufcw135.com
SUMMARY:Bonita Dental Election Vote Count
DESCRIPTION:UFCW Local 135 will be counting ballots on Zoom so members at Bonital Dental can watch and see the results of their election live. \nIf you work at Bonita Dental\, contact your Union Rep Jon for the registration link.
URL:https://ufcw135.com/event/bonita-dental-election-vote-count/
CATEGORIES:Election
END:VEVENT
END:VCALENDAR