BEGIN:VCALENDAR
VERSION:2.0
PRODID:-//UFCW Local 135 - ECPv6.15.20//NONSGML v1.0//EN
CALSCALE:GREGORIAN
METHOD:PUBLISH
X-ORIGINAL-URL:https://ufcw135.com
X-WR-CALDESC:Events for UFCW Local 135
REFRESH-INTERVAL;VALUE=DURATION:PT1H
X-Robots-Tag:noindex
X-PUBLISHED-TTL:PT1H
BEGIN:VTIMEZONE
TZID:America/Los_Angeles
BEGIN:DAYLIGHT
TZOFFSETFROM:-0800
TZOFFSETTO:-0700
TZNAME:PDT
DTSTART:20210314T100000
END:DAYLIGHT
BEGIN:STANDARD
TZOFFSETFROM:-0700
TZOFFSETTO:-0800
TZNAME:PST
DTSTART:20211107T090000
END:STANDARD
BEGIN:DAYLIGHT
TZOFFSETFROM:-0800
TZOFFSETTO:-0700
TZNAME:PDT
DTSTART:20220313T100000
END:DAYLIGHT
BEGIN:STANDARD
TZOFFSETFROM:-0700
TZOFFSETTO:-0800
TZNAME:PST
DTSTART:20221106T090000
END:STANDARD
BEGIN:DAYLIGHT
TZOFFSETFROM:-0800
TZOFFSETTO:-0700
TZNAME:PDT
DTSTART:20230312T100000
END:DAYLIGHT
BEGIN:STANDARD
TZOFFSETFROM:-0700
TZOFFSETTO:-0800
TZNAME:PST
DTSTART:20231105T090000
END:STANDARD
BEGIN:DAYLIGHT
TZOFFSETFROM:-0800
TZOFFSETTO:-0700
TZNAME:PDT
DTSTART:20240310T100000
END:DAYLIGHT
BEGIN:STANDARD
TZOFFSETFROM:-0700
TZOFFSETTO:-0800
TZNAME:PST
DTSTART:20241103T090000
END:STANDARD
BEGIN:DAYLIGHT
TZOFFSETFROM:-0800
TZOFFSETTO:-0700
TZNAME:PDT
DTSTART:20250309T100000
END:DAYLIGHT
BEGIN:STANDARD
TZOFFSETFROM:-0700
TZOFFSETTO:-0800
TZNAME:PST
DTSTART:20251102T090000
END:STANDARD
BEGIN:DAYLIGHT
TZOFFSETFROM:-0800
TZOFFSETTO:-0700
TZNAME:PDT
DTSTART:20260308T100000
END:DAYLIGHT
BEGIN:STANDARD
TZOFFSETFROM:-0700
TZOFFSETTO:-0800
TZNAME:PST
DTSTART:20261101T090000
END:STANDARD
END:VTIMEZONE
BEGIN:VEVENT
DTSTART;TZID=America/Los_Angeles:20220716T100000
DTEND;TZID=America/Los_Angeles:20220716T130000
DTSTAMP:20260423T115536
CREATED:20220602T215021Z
LAST-MODIFIED:20220602T215021Z
UID:13948-1657965600-1657976400@ufcw135.com
SUMMARY:Union Pride at SD Pride Parade
DESCRIPTION:UFCW Local 135 will have a union contigent participating in this year’s San Diego Pride Parade.\n\n\n\nThis annual parade is the largest single-day civic event in the region and is among the largest Prides in the United States\, attracting over 300\,000 people.\n\n\n\nJoin us on Saturday\, July 16 at 10am as we show our Union Pride by walking with our LGBTQ members\, staff\, and allies.\n\nEach member that walks with us will receive a free Union Pride shirt.\n\nIf interested\, email info@ufcw135.com and we’ll add your name to the list of participating UFCW members. Please include your shirt size preference.
URL:https://ufcw135.com/event/union-pride-at-sd-pride-parade/
LOCATION:Hillcrest Pride Flag\, Normal Street and University Avenue\, San Diego
CATEGORIES:Community
ATTACH;FMTTYPE=image/png:https://ufcw135.com/wp-content/uploads/2022/06/unionpride2.png
END:VEVENT
BEGIN:VEVENT
DTSTART;TZID=America/Los_Angeles:20230501T143000
DTEND;TZID=America/Los_Angeles:20230501T160000
DTSTAMP:20260423T115536
CREATED:20230421T175941Z
LAST-MODIFIED:20230421T175941Z
UID:13989-1682951400-1682956800@ufcw135.com
SUMMARY:May Day Film and Q&A
DESCRIPTION:The San Diego & Imperial Counties Labor Council is taking over UFCW Local 135’s union hall for a special May Day screening of the Fred Glass documentary\, We Mean to Make Things Over: A History of May Day. \nThe free screening and question and answer session takes place Monday\, May 1 from 2:30-4pm at our Mission Valley office located at 2001 Camino del Rio S\, San Diego\, CA 92108. \nParking available on the 1st level of the Methodist Church next door.
URL:https://ufcw135.com/event/may-day-film-and-qa/
LOCATION:UFCW Local 135 Mission Valley location – meeting hall\, 2001 Camino del Rio South\, San Diego\, CA\, 92108\, United States
CATEGORIES:Community
END:VEVENT
BEGIN:VEVENT
DTSTART;TZID=America/Los_Angeles:20250510T150000
DTEND;TZID=America/Los_Angeles:20250510T180000
DTSTAMP:20260423T115536
CREATED:20250318T162654Z
LAST-MODIFIED:20250318T162654Z
UID:16157-1746889200-1746900000@ufcw135.com
SUMMARY:Stamp Out Hunger Food Drive
DESCRIPTION:Union postal workers\, the San Diego Food Bank\, and volunteers throughout the county are gearing up for the annual Stamp Out Hunger Food Drive on Saturday\, May 10\, 2025. This event\, organized by the National Association of Letter Carriers\, is the largest single-day food drive in the United States. \nWith UFCW as a national sponsor\, join UFCW Local 135 in making 2025 a record-breaking year by volunteering at three locations across San Diego. We are calling on stewards\, members\, retirees\, and union staff to help make a difference. \nA new gold UFCW Local 135 shirt will be provided to all volunteers. \nSaturday\, May 10\, 2025 from 3-6pm at 3 postal locations: \nENCANTO POST OFFICE\n5505 Stevens Way\nSan Diego\, CA 92114\n \n\nGRANTVILLE POST OFFICE\n4740 Mission Gorge Pl.\nSan Diego\, CA 92120\n\n \nSCRIPPS RANCH POST OFFICE\n10060 Willow Creek Rd\nSan Diego\, CA 92131\n\nRegister HERE to help lend a hand. \nQuestions? Email info@ufcw135.com.
URL:https://ufcw135.com/event/stamp-out-hunger-food-drive/
LOCATION:CA
CATEGORIES:Community
END:VEVENT
END:VCALENDAR