BEGIN:VCALENDAR
VERSION:2.0
PRODID:-//UFCW Local 135 - ECPv6.15.20//NONSGML v1.0//EN
CALSCALE:GREGORIAN
METHOD:PUBLISH
X-ORIGINAL-URL:https://ufcw135.com
X-WR-CALDESC:Events for UFCW Local 135
REFRESH-INTERVAL;VALUE=DURATION:PT1H
X-Robots-Tag:noindex
X-PUBLISHED-TTL:PT1H
BEGIN:VTIMEZONE
TZID:America/Los_Angeles
BEGIN:DAYLIGHT
TZOFFSETFROM:-0800
TZOFFSETTO:-0700
TZNAME:PDT
DTSTART:20230312T100000
END:DAYLIGHT
BEGIN:STANDARD
TZOFFSETFROM:-0700
TZOFFSETTO:-0800
TZNAME:PST
DTSTART:20231105T090000
END:STANDARD
BEGIN:DAYLIGHT
TZOFFSETFROM:-0800
TZOFFSETTO:-0700
TZNAME:PDT
DTSTART:20240310T100000
END:DAYLIGHT
BEGIN:STANDARD
TZOFFSETFROM:-0700
TZOFFSETTO:-0800
TZNAME:PST
DTSTART:20241103T090000
END:STANDARD
BEGIN:DAYLIGHT
TZOFFSETFROM:-0800
TZOFFSETTO:-0700
TZNAME:PDT
DTSTART:20250309T100000
END:DAYLIGHT
BEGIN:STANDARD
TZOFFSETFROM:-0700
TZOFFSETTO:-0800
TZNAME:PST
DTSTART:20251102T090000
END:STANDARD
END:VTIMEZONE
BEGIN:VEVENT
DTSTART;TZID=America/Los_Angeles:20240911T100000
DTEND;TZID=America/Los_Angeles:20240911T130000
DTSTAMP:20260425T160924
CREATED:20240906T222953Z
LAST-MODIFIED:20240906T222953Z
UID:15779-1726048800-1726059600@ufcw135.com
SUMMARY:CVS Customer Actions
DESCRIPTION:UFCW Local 135 is stepping up our efforts for a fair contract at CVS!\n\n\n\n\nJoin us on Wednesday\, September 11\, from 10 am to 1 pm\, as we engage with customers at two nonunion CVS pharmacies\, asking them to transfer their prescriptions to a nearby union grocery pharmacy and cancel their CarePass.\n\n\n\nLocations:\n734 S. Rancho Santa Fe Blvd\, San Marcos\n7525 Eads Ave\, La Jolla\n\n\n\nStand with us in the fight for a better contract!
URL:https://ufcw135.com/event/cvs-customer-actions/
CATEGORIES:Action
END:VEVENT
END:VCALENDAR