BEGIN:VCALENDAR
VERSION:2.0
PRODID:-//UFCW Local 135 - ECPv6.15.20//NONSGML v1.0//EN
CALSCALE:GREGORIAN
METHOD:PUBLISH
X-WR-CALNAME:UFCW Local 135
X-ORIGINAL-URL:https://ufcw135.com
X-WR-CALDESC:Events for UFCW Local 135
REFRESH-INTERVAL;VALUE=DURATION:PT1H
X-Robots-Tag:noindex
X-PUBLISHED-TTL:PT1H
BEGIN:VTIMEZONE
TZID:America/Los_Angeles
BEGIN:DAYLIGHT
TZOFFSETFROM:-0800
TZOFFSETTO:-0700
TZNAME:PDT
DTSTART:20230312T100000
END:DAYLIGHT
BEGIN:STANDARD
TZOFFSETFROM:-0700
TZOFFSETTO:-0800
TZNAME:PST
DTSTART:20231105T090000
END:STANDARD
BEGIN:DAYLIGHT
TZOFFSETFROM:-0800
TZOFFSETTO:-0700
TZNAME:PDT
DTSTART:20240310T100000
END:DAYLIGHT
BEGIN:STANDARD
TZOFFSETFROM:-0700
TZOFFSETTO:-0800
TZNAME:PST
DTSTART:20241103T090000
END:STANDARD
BEGIN:DAYLIGHT
TZOFFSETFROM:-0800
TZOFFSETTO:-0700
TZNAME:PDT
DTSTART:20250309T100000
END:DAYLIGHT
BEGIN:STANDARD
TZOFFSETFROM:-0700
TZOFFSETTO:-0800
TZNAME:PST
DTSTART:20251102T090000
END:STANDARD
END:VTIMEZONE
BEGIN:VEVENT
DTSTART;TZID=America/Los_Angeles:20240909T190000
DTEND;TZID=America/Los_Angeles:20240909T203000
DTSTAMP:20260425T172648
CREATED:20240830T180259Z
LAST-MODIFIED:20240830T180259Z
UID:15745-1725908400-1725913800@ufcw135.com
SUMMARY:CVS Negotiations Update Webinar
DESCRIPTION:Attention CVS Workers! \n\n\n\nUFCW Locals 5\, 135\, 324\, 648\, 770\, 1167\, 1428\, and 1442 are hosting a joint CVS Negotiations Update Webinar on September 9 at 7 PM via Zoom.\n\n\n\nGet:\n• The latest bargaining update\n• Details on the upcoming strike authorization vote\n• Information on potential economic actions against CVS\n• Answers to your questions\n\n\n\n Register here: bit.ly/cvs99webinar7pm
URL:https://ufcw135.com/event/cvs-negotiations-update-webinar/
CATEGORIES:Meeting
END:VEVENT
END:VCALENDAR