BEGIN:VCALENDAR
VERSION:2.0
PRODID:-//UFCW Local 135 - ECPv6.15.20//NONSGML v1.0//EN
CALSCALE:GREGORIAN
METHOD:PUBLISH
X-WR-CALNAME:UFCW Local 135
X-ORIGINAL-URL:https://ufcw135.com
X-WR-CALDESC:Events for UFCW Local 135
REFRESH-INTERVAL;VALUE=DURATION:PT1H
X-Robots-Tag:noindex
X-PUBLISHED-TTL:PT1H
BEGIN:VTIMEZONE
TZID:America/Los_Angeles
BEGIN:DAYLIGHT
TZOFFSETFROM:-0800
TZOFFSETTO:-0700
TZNAME:PDT
DTSTART:20230312T100000
END:DAYLIGHT
BEGIN:STANDARD
TZOFFSETFROM:-0700
TZOFFSETTO:-0800
TZNAME:PST
DTSTART:20231105T090000
END:STANDARD
BEGIN:DAYLIGHT
TZOFFSETFROM:-0800
TZOFFSETTO:-0700
TZNAME:PDT
DTSTART:20240310T100000
END:DAYLIGHT
BEGIN:STANDARD
TZOFFSETFROM:-0700
TZOFFSETTO:-0800
TZNAME:PST
DTSTART:20241103T090000
END:STANDARD
BEGIN:DAYLIGHT
TZOFFSETFROM:-0800
TZOFFSETTO:-0700
TZNAME:PDT
DTSTART:20250309T100000
END:DAYLIGHT
BEGIN:STANDARD
TZOFFSETFROM:-0700
TZOFFSETTO:-0800
TZNAME:PST
DTSTART:20251102T090000
END:STANDARD
END:VTIMEZONE
BEGIN:VEVENT
DTSTART;TZID=America/Los_Angeles:20240724T130000
DTEND;TZID=America/Los_Angeles:20240724T160000
DTSTAMP:20260425T185951
CREATED:20240719T222722Z
LAST-MODIFIED:20240719T222747Z
UID:15701-1721826000-1721836800@ufcw135.com
SUMMARY:CVS Customer Leafletting Actions
DESCRIPTION:  \n\nWe’re continuing our customer engagement leafletting actions next Wednesday\, July 24 from 1-4pm at three CVS locations across the county. \n\n\n\nWe’ll be at #9187 in Solana Beach\, #9632 in Chula Vista\, and #8842 in El Cajon. If available\, join us for an hour as we engage with customers. \n\n\n\nCVS #9187 683 Lomas Santa Fe Dr. Solana Beach \n\n\n\nCVS #9632 691 Third Ave. Chula Vista \n\n\n\nCVS #8842 426 Chase Ave. El Cajon
URL:https://ufcw135.com/event/15701/
CATEGORIES:Action
END:VEVENT
END:VCALENDAR